BEGIN:VCALENDAR
VERSION:2.0
PRODID:-//Homepage des Judo-Club Burg e.V. - ECPv6.15.20//NONSGML v1.0//EN
CALSCALE:GREGORIAN
METHOD:PUBLISH
X-WR-CALNAME:Homepage des Judo-Club Burg e.V.
X-ORIGINAL-URL:https://jc-burg.de
X-WR-CALDESC:Veranstaltungen für Homepage des Judo-Club Burg e.V.
REFRESH-INTERVAL;VALUE=DURATION:PT1H
X-Robots-Tag:noindex
X-PUBLISHED-TTL:PT1H
BEGIN:VTIMEZONE
TZID:Europe/Berlin
BEGIN:DAYLIGHT
TZOFFSETFROM:+0100
TZOFFSETTO:+0200
TZNAME:CEST
DTSTART:20230326T010000
END:DAYLIGHT
BEGIN:STANDARD
TZOFFSETFROM:+0200
TZOFFSETTO:+0100
TZNAME:CET
DTSTART:20231029T010000
END:STANDARD
BEGIN:DAYLIGHT
TZOFFSETFROM:+0100
TZOFFSETTO:+0200
TZNAME:CEST
DTSTART:20240331T010000
END:DAYLIGHT
BEGIN:STANDARD
TZOFFSETFROM:+0200
TZOFFSETTO:+0100
TZNAME:CET
DTSTART:20241027T010000
END:STANDARD
BEGIN:DAYLIGHT
TZOFFSETFROM:+0100
TZOFFSETTO:+0200
TZNAME:CEST
DTSTART:20250330T010000
END:DAYLIGHT
BEGIN:STANDARD
TZOFFSETFROM:+0200
TZOFFSETTO:+0100
TZNAME:CET
DTSTART:20251026T010000
END:STANDARD
END:VTIMEZONE
BEGIN:VEVENT
DTSTART;VALUE=DATE:20240608
DTEND;VALUE=DATE:20240609
DTSTAMP:20260419T233014
CREATED:20231217T213037Z
LAST-MODIFIED:20231217T213037Z
UID:1702-1717804800-1717891199@jc-burg.de
SUMMARY:Pokal der Optik
DESCRIPTION:u7\, u9\, u11\, u13 \n06-24-06-08-PdO-Rathenow
URL:https://jc-burg.de/termine/pokal-der-optik/
LOCATION:Havellandhalle\, Schopenhauer Str. 35\, Rathenow\, 14712
CATEGORIES:Wettkämpfe
END:VEVENT
BEGIN:VEVENT
DTSTART;VALUE=DATE:20240615
DTEND;VALUE=DATE:20240616
DTSTAMP:20260419T233014
CREATED:20231217T213533Z
LAST-MODIFIED:20231217T213533Z
UID:1706-1718409600-1718495999@jc-burg.de
SUMMARY:Wolfener Judoturnier
DESCRIPTION:u9\, u11\, u13\, u15 \n06-Chemie_Wolfen
URL:https://jc-burg.de/termine/wolfener-judoturnier-2/
LOCATION:Jahnturnhalle\, Jahnstraße\, Wolfen\, 06766
CATEGORIES:Wettkämpfe
END:VEVENT
END:VCALENDAR