BEGIN:VCALENDAR
VERSION:2.0
PRODID:-//Homepage des Judo-Club Burg e.V. - ECPv6.15.20//NONSGML v1.0//EN
CALSCALE:GREGORIAN
METHOD:PUBLISH
X-WR-CALNAME:Homepage des Judo-Club Burg e.V.
X-ORIGINAL-URL:https://jc-burg.de
X-WR-CALDESC:Veranstaltungen für Homepage des Judo-Club Burg e.V.
REFRESH-INTERVAL;VALUE=DURATION:PT1H
X-Robots-Tag:noindex
X-PUBLISHED-TTL:PT1H
BEGIN:VTIMEZONE
TZID:Europe/Berlin
BEGIN:DAYLIGHT
TZOFFSETFROM:+0100
TZOFFSETTO:+0200
TZNAME:CEST
DTSTART:20240331T010000
END:DAYLIGHT
BEGIN:STANDARD
TZOFFSETFROM:+0200
TZOFFSETTO:+0100
TZNAME:CET
DTSTART:20241027T010000
END:STANDARD
BEGIN:DAYLIGHT
TZOFFSETFROM:+0100
TZOFFSETTO:+0200
TZNAME:CEST
DTSTART:20250330T010000
END:DAYLIGHT
BEGIN:STANDARD
TZOFFSETFROM:+0200
TZOFFSETTO:+0100
TZNAME:CET
DTSTART:20251026T010000
END:STANDARD
BEGIN:DAYLIGHT
TZOFFSETFROM:+0100
TZOFFSETTO:+0200
TZNAME:CEST
DTSTART:20260329T010000
END:DAYLIGHT
BEGIN:STANDARD
TZOFFSETFROM:+0200
TZOFFSETTO:+0100
TZNAME:CET
DTSTART:20261025T010000
END:STANDARD
END:VTIMEZONE
BEGIN:VEVENT
DTSTART;TZID=Europe/Berlin:20251107T180000
DTEND;TZID=Europe/Berlin:20251107T200000
DTSTAMP:20260419T203749
CREATED:20251007T202633Z
LAST-MODIFIED:20251007T202633Z
UID:2220-1762538400-1762545600@jc-burg.de
SUMMARY:Mitgliederversammlung 2025
DESCRIPTION:Einladung MGV 2025
URL:https://jc-burg.de/termine/mitgliederversammlung-2023-2-2/
LOCATION:Sporthalle
CATEGORIES:vereinsinterne Veranstaltungen,Vorstandsarbeit
END:VEVENT
BEGIN:VEVENT
DTSTART;VALUE=DATE:20251129
DTEND;VALUE=DATE:20251130
DTSTAMP:20260419T203749
CREATED:20250804T210941Z
LAST-MODIFIED:20250804T210942Z
UID:2130-1764374400-1764460799@jc-burg.de
SUMMARY:Mitgliederversammlung
DESCRIPTION:Mitgliederversammlung JVST \nTeilnahme gem. Deligiertenmeldung
URL:https://jc-burg.de/termine/mitgliederversammlung/
LOCATION:Barleben
CATEGORIES:Vorstandsarbeit
END:VEVENT
END:VCALENDAR